BEGIN:VCALENDAR
VERSION:2.0
METHOD:PUBLISH
PRODID:-//kindex.ch//Eventboerse//DE
BEGIN:VEVENT
DTSTART;VALUE=DATE:20260905
URL:https://www.kindex.ch/glattfelden/kinderkleider-und-spielzeug-boerse
DTSTAMP:20260905
CATEGORIES:
TRANSP:OPAQUE
SEQUENCE:0
UID:1251-1777158303-737825546
CREATED:20260426T010503
SUMMARY:Kinderkleider & Spielzeug Börse Glattfelden
LOCATION:Mehrzweckhalle Eichhölzli Glattfelden
DESCRIPTION:Am 05.09.2026 findet die Eventbörse 'Kinderkleider & Spielzeug Börse Glattfelden' in Glattfelden statt.\n\nBitte informieren Sie sich kurz vorher über die genauen Event-Daten. Zeit und Ort können sich manchmal kurzfristig ändern.\n\nWeitere Details siehe https://www.kindex.ch/glattfelden/kinderkleider-und-spielzeug-boerse\n\nFür die aktuellsten Infos sehen Sie auf der Webseite des Börsenbetreibers nach: https://www.mikile.ch/boerse/
BEGIN:VALARM
TRIGGER:-PT15H
REPEAT:1
DURATION:PT15M
ACTION:DISPLAY
DESCRIPTION:Erinnerung
END:VALARM
END:VEVENT
END:VCALENDAR