BEGIN:VCALENDAR
VERSION:2.0
METHOD:PUBLISH
PRODID:-//kindex.ch//Eventboerse//DE
BEGIN:VEVENT
DTSTART;VALUE=DATE:20260919
URL:https://www.kindex.ch/illnau/kindersachenboerse-illnau
DTSTAMP:20260919
CATEGORIES:
TRANSP:OPAQUE
SEQUENCE:0
UID:862-1776762698-1041275934
CREATED:20260421T111138
SUMMARY:Kindersachenbörse Illnau
LOCATION:Hotzehuus Illnau
DESCRIPTION:Am 19.09.2026 findet die Eventbörse 'Kindersachenbörse Illnau' in Illnau statt.\n\nBitte informieren Sie sich kurz vorher über die genauen Event-Daten. Zeit und Ort können sich manchmal kurzfristig ändern.\n\nWeitere Details siehe https://www.kindex.ch/illnau/kindersachenboerse-illnau\n\nFür die aktuellsten Infos sehen Sie auf der Webseite des Börsenbetreibers nach: http://www.boerseillnau.ch
BEGIN:VALARM
TRIGGER:-PT15H
REPEAT:1
DURATION:PT15M
ACTION:DISPLAY
DESCRIPTION:Erinnerung
END:VALARM
END:VEVENT
END:VCALENDAR