BEGIN:VCALENDAR
VERSION:2.0
METHOD:PUBLISH
PRODID:-//kindex.ch//Eventboerse//DE
BEGIN:VEVENT
DTSTART;VALUE=DATE:20260919
URL:https://www.kindex.ch/niederglatt-zh/kinderkleiderboerse
DTSTAMP:20260919
CATEGORIES:
TRANSP:OPAQUE
SEQUENCE:0
UID:621-1777017578-772266702
CREATED:20260424T095938
SUMMARY:Kinderkleiderbörse
LOCATION:Turnhalle und Singsaal Eichi Niederglatt ZH
DESCRIPTION:Am 19.09.2026 findet die Eventbörse 'Kinderkleiderbörse' in Niederglatt ZH statt.\n\nBitte informieren Sie sich kurz vorher über die genauen Event-Daten. Zeit und Ort können sich manchmal kurzfristig ändern.\n\nWeitere Details siehe https://www.kindex.ch/niederglatt-zh/kinderkleiderboerse\n\n
BEGIN:VALARM
TRIGGER:-PT15H
REPEAT:1
DURATION:PT15M
ACTION:DISPLAY
DESCRIPTION:Erinnerung
END:VALARM
END:VEVENT
END:VCALENDAR