BEGIN:VCALENDAR
VERSION:2.0
METHOD:PUBLISH
PRODID:-//kindex.ch//Eventboerse//DE
BEGIN:VEVENT
DTSTART;VALUE=DATE:20260919
URL:https://www.kindex.ch/samstagern/secondhand-alles-fuers-kind
DTSTAMP:20260919
CATEGORIES:
TRANSP:OPAQUE
SEQUENCE:0
UID:1363-1776670791-1535624957
CREATED:20260420T093951
SUMMARY:Secondhand - alles fürs Kind
LOCATION:Haaggeri Saal Samstagern Samstagern
DESCRIPTION:Am 19.09.2026 findet die Eventbörse 'Secondhand - alles fürs Kind' in Samstagern statt.\n\nBitte informieren Sie sich kurz vorher über die genauen Event-Daten. Zeit und Ort können sich manchmal kurzfristig ändern.\n\nWeitere Details siehe https://www.kindex.ch/samstagern/secondhand-alles-fuers-kind\n\nFür die aktuellsten Infos sehen Sie auf der Webseite des Börsenbetreibers nach: https://www.secondhandsamstagern.ch
BEGIN:VALARM
TRIGGER:-PT15H
REPEAT:1
DURATION:PT15M
ACTION:DISPLAY
DESCRIPTION:Erinnerung
END:VALARM
END:VEVENT
END:VCALENDAR