BEGIN:VCALENDAR
VERSION:2.0
METHOD:PUBLISH
PRODID:-//kindex.ch//Eventboerse//DE
BEGIN:VEVENT
DTSTART;VALUE=DATE:20260926
URL:https://www.kindex.ch/wolfhausen/kinderkleider-und-spielsachenboerse
DTSTAMP:20260926
CATEGORIES:
TRANSP:OPAQUE
SEQUENCE:0
UID:1374-1776623084-673767472
CREATED:20260419T202444
SUMMARY:Kinderkleider- und Spielsachenbörse
LOCATION:Geissbergsaal Wolfhausen
DESCRIPTION:Am 26.09.2026 findet die Eventbörse 'Kinderkleider- und Spielsachenbörse' in Wolfhausen statt.\n\nBitte informieren Sie sich kurz vorher über die genauen Event-Daten. Zeit und Ort können sich manchmal kurzfristig ändern.\n\nWeitere Details siehe https://www.kindex.ch/wolfhausen/kinderkleider-und-spielsachenboerse\n\nFür die aktuellsten Infos sehen Sie auf der Webseite des Börsenbetreibers nach: https://www.fvbuwo.ch/angebot/börse/
BEGIN:VALARM
TRIGGER:-PT15H
REPEAT:1
DURATION:PT15M
ACTION:DISPLAY
DESCRIPTION:Erinnerung
END:VALARM
END:VEVENT
END:VCALENDAR